BEGIN:VCALENDAR
VERSION:2.0
PRODID:-//Refectory Restaurant - ECPv6.15.17//NONSGML v1.0//EN
CALSCALE:GREGORIAN
METHOD:PUBLISH
X-WR-CALNAME:Refectory Restaurant
X-ORIGINAL-URL:https://refectory.com
X-WR-CALDESC:Events for Refectory Restaurant
REFRESH-INTERVAL;VALUE=DURATION:PT1H
X-Robots-Tag:noindex
X-PUBLISHED-TTL:PT1H
BEGIN:VTIMEZONE
TZID:America/New_York
BEGIN:DAYLIGHT
TZOFFSETFROM:-0500
TZOFFSETTO:-0400
TZNAME:EDT
DTSTART:20250309T070000
END:DAYLIGHT
BEGIN:STANDARD
TZOFFSETFROM:-0400
TZOFFSETTO:-0500
TZNAME:EST
DTSTART:20251102T060000
END:STANDARD
BEGIN:DAYLIGHT
TZOFFSETFROM:-0500
TZOFFSETTO:-0400
TZNAME:EDT
DTSTART:20260308T070000
END:DAYLIGHT
BEGIN:STANDARD
TZOFFSETFROM:-0400
TZOFFSETTO:-0500
TZNAME:EST
DTSTART:20261101T060000
END:STANDARD
BEGIN:DAYLIGHT
TZOFFSETFROM:-0500
TZOFFSETTO:-0400
TZNAME:EDT
DTSTART:20270314T070000
END:DAYLIGHT
BEGIN:STANDARD
TZOFFSETFROM:-0400
TZOFFSETTO:-0500
TZNAME:EST
DTSTART:20271107T060000
END:STANDARD
END:VTIMEZONE
BEGIN:VEVENT
DTSTART;TZID=America/New_York:20260223T181500
DTEND;TZID=America/New_York:20260223T203000
DTSTAMP:20260422T073559
CREATED:20250715T205812Z
LAST-MODIFIED:20260207T200648Z
UID:10000158-1771870500-1771878600@refectory.com
SUMMARY:Champagne Dinner
DESCRIPTION:Join us for an elegant Champagne Dinner\, featuring a Five-Course menu crafted by Chef Richard Blondin and paired with exceptional Champagnes selected by Clayton Young.Experience Chef Richard’s Five-Course Dinner with Five Wines (510. Total Retail Value) \n\n\n\n255.++ per guestWines will be available for retail purchase. \n\n\n\n\n\n\n\nPrepaid Reservations are required614-451-9774Limited tables available \n\n\n\n*Menu and wines subject to change*
URL:https://refectory.com/event/champagne-dinner/
CATEGORIES:Wine Tastings
ATTACH;FMTTYPE=image/jpeg:https://refectory.com/wp-content/uploads/2025/07/Champagne-Wine-Dinner-600-x-450-px-7.jpg
END:VEVENT
END:VCALENDAR