BEGIN:VCALENDAR
VERSION:2.0
PRODID:-//Refectory Restaurant - ECPv6.15.17//NONSGML v1.0//EN
CALSCALE:GREGORIAN
METHOD:PUBLISH
X-WR-CALNAME:Refectory Restaurant
X-ORIGINAL-URL:https://refectory.com
X-WR-CALDESC:Events for Refectory Restaurant
REFRESH-INTERVAL;VALUE=DURATION:PT1H
X-Robots-Tag:noindex
X-PUBLISHED-TTL:PT1H
BEGIN:VTIMEZONE
TZID:America/New_York
BEGIN:DAYLIGHT
TZOFFSETFROM:-0500
TZOFFSETTO:-0400
TZNAME:EDT
DTSTART:20250309T070000
END:DAYLIGHT
BEGIN:STANDARD
TZOFFSETFROM:-0400
TZOFFSETTO:-0500
TZNAME:EST
DTSTART:20251102T060000
END:STANDARD
BEGIN:DAYLIGHT
TZOFFSETFROM:-0500
TZOFFSETTO:-0400
TZNAME:EDT
DTSTART:20260308T070000
END:DAYLIGHT
BEGIN:STANDARD
TZOFFSETFROM:-0400
TZOFFSETTO:-0500
TZNAME:EST
DTSTART:20261101T060000
END:STANDARD
BEGIN:DAYLIGHT
TZOFFSETFROM:-0500
TZOFFSETTO:-0400
TZNAME:EDT
DTSTART:20270314T070000
END:DAYLIGHT
BEGIN:STANDARD
TZOFFSETFROM:-0400
TZOFFSETTO:-0500
TZNAME:EST
DTSTART:20271107T060000
END:STANDARD
END:VTIMEZONE
BEGIN:VEVENT
DTSTART;TZID=America/New_York:20260526T181500
DTEND;TZID=America/New_York:20260526T203000
DTSTAMP:20260422T130724
CREATED:20260414T202827Z
LAST-MODIFIED:20260415T204921Z
UID:10000174-1779819300-1779827400@refectory.com
SUMMARY:Italian Wine Dinner
DESCRIPTION:We invite you to a rare wine dinner featuring two of Piedmont’s most compelling voices:Federico Russo (Crotin 1897) and Cristiano Garella (Le Pianelle)\, joining us in person alongside Mark Cerimele. \n\n\n\nThis isn’t just a dinner; it’s a deep dive into the resurgence of Alto Piemonte and Monferrato. From Federico’s elegant Grignolino to Cristiano’s powerful\, volcanic-soil Nebbiolos\, you’ll experience a side of Italy that redefines the region. \n\n\n\n\n\nWines will be available for retail purchase. \n\n\n\nPrepaid Reservations are required614-451-9774Limited tables available \n\n\n\n\n\n\n\n*Menu and wines subject to change*
URL:https://refectory.com/event/italian-wine-dinner/
CATEGORIES:Wine Tastings
ATTACH;FMTTYPE=image/jpeg:https://refectory.com/wp-content/uploads/2026/04/Italian-Wine-Dinner-1.jpg
END:VEVENT
END:VCALENDAR